BEGIN:VCALENDAR
VERSION:2.0
PRODID:https://www.altmuehl-jura.de/
X-PUBLISHED-TTL:P1D
BEGIN:VEVENT
UID:69e89b59b1c35
DTSTART:20260502T160000Z
SEQUENCE:0
TRANSP:OPAQUE
DTEND:20260502T160000Z
URL:https://www.altmuehl-jura.de/veranstaltungen/maibaumfest-806531-1268176
 5/
LOCATION:Freiwillige Feuerwehr Grafenberg - Greding
SUMMARY:Maibaumfest
DTSTAMP:20260422T115641Z
END:VEVENT
END:VCALENDAR