BEGIN:VCALENDAR
VERSION:2.0
PRODID:https://www.altmuehl-jura.de/
X-PUBLISHED-TTL:P1D
BEGIN:VEVENT
UID:69eb90570b1e3
DTSTART:20260713T080000Z
SEQUENCE:0
TRANSP:OPAQUE
DTEND:20260713T080000Z
URL:https://www.altmuehl-jura.de/veranstaltungen/matinee_anlaesslich_barock
 fest-809789-12683719/
LOCATION:- Veranstaltung ohne festen Ort - Berching
SUMMARY:Matinee anlässlich Barockfest
DTSTAMP:20260424T174631Z
END:VEVENT
END:VCALENDAR