BEGIN:VCALENDAR
VERSION:2.0
PRODID:https://www.altmuehl-jura.de/
X-PUBLISHED-TTL:P1D
BEGIN:VEVENT
UID:69e74569f3574
DTSTART:20260516T170000Z
SEQUENCE:0
TRANSP:OPAQUE
DTEND:20260516T170000Z
URL:https://www.altmuehl-jura.de/veranstaltungen/mistletoe_ivy-656613-12579
 911/
LOCATION:Alcmona-Erlebnisdorf - Dietfurt
SUMMARY:Mistletoe & Ivy
DESCRIPTION:Irish Folk
DTSTAMP:20260421T113746Z
END:VEVENT
END:VCALENDAR