BEGIN:VCALENDAR
VERSION:2.0
PRODID:https://www.altmuehl-jura.de/
X-PUBLISHED-TTL:P1D
BEGIN:VEVENT
UID:69e8230a9fbe5
DTSTART:20260613T170000Z
SEQUENCE:0
TRANSP:OPAQUE
DTEND:20260613T200000Z
URL:https://www.altmuehl-jura.de/veranstaltungen/musiknacht-644501-12576197
 /
LOCATION:- Veranstaltung ohne festen Ort - Berching
SUMMARY:MUSIKnacht
DESCRIPTION:Von Biergartenmusik bis Pop\, für jeden ist etwas dabei!
DTSTAMP:20260422T032322Z
END:VEVENT
END:VCALENDAR