BEGIN:VCALENDAR
VERSION:2.0
PRODID:https://www.altmuehl-jura.de/
X-PUBLISHED-TTL:P1D
BEGIN:VEVENT
UID:69e8118d46f26
DTSTART:20261206T170000Z
SEQUENCE:0
TRANSP:OPAQUE
DTEND:20261206T183000Z
URL:https://www.altmuehl-jura.de/veranstaltungen/nikolausschiessen_fuer_die
 _jug-669001/
LOCATION:Schützenheim in der städtische Kindertagesstätte „Am Kreuzber
 g“ - Dietfurt
SUMMARY:Nikolausschießen für die Jugend
DTSTAMP:20260422T020845Z
END:VEVENT
END:VCALENDAR