BEGIN:VCALENDAR
VERSION:2.0
PRODID:https://www.altmuehl-jura.de/
X-PUBLISHED-TTL:P1D
BEGIN:VEVENT
UID:69e736460345b
DTSTART:20260613T160000Z
SEQUENCE:0
TRANSP:OPAQUE
DTEND:20260613T171500Z
URL:https://www.altmuehl-jura.de/veranstaltungen/offene_stadtfuehrung-66567
 7-12592909/
LOCATION:Brunnen vor dem Rathaus - Berching
SUMMARY:Offene Stadtführung
DTSTAMP:20260421T103310Z
END:VEVENT
END:VCALENDAR