BEGIN:VCALENDAR
VERSION:2.0
PRODID:https://www.altmuehl-jura.de/
X-PUBLISHED-TTL:P1D
BEGIN:VEVENT
UID:69e758d2c9761
DTSTART:20260702T191500Z
SEQUENCE:0
TRANSP:OPAQUE
DTEND:20260702T191500Z
URL:https://www.altmuehl-jura.de/veranstaltungen/open-air-kino_die_aeltern-
 807283-12681939/
LOCATION:- Veranstaltung ohne festen Ort - Berching
SUMMARY:Open-Air-Kino \"Die Ältern\"
DESCRIPTION:im Hans Kuffer Park an der Sulzbühne
DTSTAMP:20260421T130034Z
END:VEVENT
END:VCALENDAR