BEGIN:VCALENDAR
VERSION:2.0
PRODID:https://www.altmuehl-jura.de/
X-PUBLISHED-TTL:P1D
BEGIN:VEVENT
UID:69e75ae0f09b7
DTSTART:20260701T191500Z
SEQUENCE:0
TRANSP:OPAQUE
DTEND:20260701T191500Z
URL:https://www.altmuehl-jura.de/veranstaltungen/open-air-kino_ganzer_halbe
 r_br-697211-12614963/
LOCATION:- Veranstaltung ohne festen Ort - Berching
SUMMARY:Open-Air-Kino \"Ganzer halber Bruder\"
DESCRIPTION:im Hans Kuffer Park an der Sulzbühne
DTSTAMP:20260421T130920Z
END:VEVENT
END:VCALENDAR