BEGIN:VCALENDAR
VERSION:2.0
PRODID:https://www.altmuehl-jura.de/
X-PUBLISHED-TTL:P1D
BEGIN:VEVENT
UID:69eb6a72273bb
DTSTART:20260702T191500Z
SEQUENCE:0
TRANSP:OPAQUE
DTEND:20260702T191500Z
URL:https://www.altmuehl-jura.de/veranstaltungen/open_air_kino_die_aeltern-
 807283/
LOCATION:Sulzbühne Hans-Kuffer-Park - Berching
SUMMARY:Open Air Kino \"Die Ältern\"
DESCRIPTION:im Hans Kuffer Park an der Sulzbühne
DTSTAMP:20260424T150450Z
END:VEVENT
END:VCALENDAR