BEGIN:VCALENDAR
VERSION:2.0
PRODID:https://www.altmuehl-jura.de/
X-PUBLISHED-TTL:P1D
BEGIN:VEVENT
UID:69eb6b0d29423
DTSTART:20260701T191500Z
SEQUENCE:0
TRANSP:OPAQUE
DTEND:20260701T191500Z
URL:https://www.altmuehl-jura.de/veranstaltungen/open_air_kino_ganzer_halbe
 r_br-697211/
LOCATION:Sulzbühne Hans-Kuffer-Park - Berching
SUMMARY:Open Air Kino \"Ganzer halber Bruder\"
DESCRIPTION:im Hans Kuffer Park an der Sulzbühne
DTSTAMP:20260424T150725Z
END:VEVENT
END:VCALENDAR