BEGIN:VCALENDAR
VERSION:2.0
PRODID:https://www.altmuehl-jura.de/
X-PUBLISHED-TTL:P1D
BEGIN:VEVENT
UID:69eb13ea14268
DTSTART;VALUE=DATE:20260522
SEQUENCE:0
TRANSP:OPAQUE
DTEND;VALUE=DATE:20260527
URL:https://www.altmuehl-jura.de/veranstaltungen/pfingstvolksfest-612401/
LOCATION:Volksfestplatz - Berching
SUMMARY:Pfingstvolksfest
X-MICROSOFT-CDO-ALLDAYEVENT:TRUE
DTSTAMP:20260424T085538Z
END:VEVENT
END:VCALENDAR