BEGIN:VCALENDAR
VERSION:2.0
PRODID:https://www.altmuehl-jura.de/
X-PUBLISHED-TTL:P1D
BEGIN:VEVENT
UID:69e687a5e5be5
DTSTART:20260711T170000Z
SEQUENCE:0
TRANSP:OPAQUE
DTEND:20260711T190000Z
URL:https://www.altmuehl-jura.de/veranstaltungen/picknick-konzert_des_symph
 onis-629739/
LOCATION:Sulzpark - Beilngries
SUMMARY:Picknick-Konzert des Symphonischen Blasorchesters Beilngries
DTSTAMP:20260420T220805Z
END:VEVENT
END:VCALENDAR