BEGIN:VCALENDAR
VERSION:2.0
PRODID:https://www.altmuehl-jura.de/
X-PUBLISHED-TTL:P1D
BEGIN:VEVENT
UID:69e68f8580d23
DTSTART:20260506T120000Z
SEQUENCE:0
TRANSP:OPAQUE
DTEND:20260506T120000Z
URL:https://www.altmuehl-jura.de/veranstaltungen/plusminus60_maitanz_mit_to
 mmi-772683/
LOCATION:Hotel zur Krone GmbH - Beilngries
SUMMARY:Plusminus60: Maitanz mit Tommi Hiemer
DTSTAMP:20260420T224141Z
END:VEVENT
END:VCALENDAR