BEGIN:VCALENDAR
VERSION:2.0
PRODID:https://www.altmuehl-jura.de/
X-PUBLISHED-TTL:P1D
BEGIN:VEVENT
UID:69e8a450722c1
DTSTART;VALUE=DATE:20260101
SEQUENCE:0
TRANSP:OPAQUE
DTEND;VALUE=DATE:20270101
URL:https://www.altmuehl-jura.de/veranstaltungen/private_guiding-gefuehrte_
 e-mo-409457-12273307/
LOCATION:- Veranstaltung ohne festen Ort - Beilngries
SUMMARY:Private Guiding - Geführte (E)-Mountainbiketour
X-MICROSOFT-CDO-ALLDAYEVENT:TRUE
DTSTAMP:20260422T123456Z
END:VEVENT
END:VCALENDAR