BEGIN:VCALENDAR
VERSION:2.0
PRODID:https://www.altmuehl-jura.de/
X-PUBLISHED-TTL:P1D
BEGIN:VEVENT
UID:69e90fd7c60c0
DTSTART:20260614T090000Z
SEQUENCE:0
TRANSP:OPAQUE
DTEND:20260614T150000Z
URL:https://www.altmuehl-jura.de/veranstaltungen/rosenfest_im_engelwirt-808
 213-12683219/
LOCATION:Engelwirt Hotel & Apartments - Berching
SUMMARY:Rosenfest im Engelwirt
DTSTAMP:20260422T201343Z
END:VEVENT
END:VCALENDAR