BEGIN:VCALENDAR
VERSION:2.0
PRODID:https://www.altmuehl-jura.de/
X-PUBLISHED-TTL:P1D
BEGIN:VEVENT
UID:69e5f5191673b
DTSTART:20261202T100000Z
SEQUENCE:0
TRANSP:OPAQUE
DTEND:20261202T123000Z
URL:https://www.altmuehl-jura.de/veranstaltungen/schlachtschuesselessen-677
 261-12599861
LOCATION:Gasthaus Zucker - Dietfurt
SUMMARY:Schlachtschüsselessen
DTSTAMP:20260420T114249Z
END:VEVENT
END:VCALENDAR