BEGIN:VCALENDAR
VERSION:2.0
PRODID:https://www.altmuehl-jura.de/
X-PUBLISHED-TTL:P1D
BEGIN:VEVENT
UID:69e8151366a06
DTSTART:20260704T130000Z
SEQUENCE:0
TRANSP:OPAQUE
DTEND:20260704T130000Z
URL:https://www.altmuehl-jura.de/veranstaltungen/schleusenfest_der_sportang
 ler-666583/
LOCATION:Schleuse 13 / Vereinsheim Sportangler Dietfurt - Dietfurt
SUMMARY:Schleusenfest der Sportangler Dietfurt e.V.
DTSTAMP:20260422T022347Z
END:VEVENT
END:VCALENDAR