BEGIN:VCALENDAR
VERSION:2.0
PRODID:https://www.altmuehl-jura.de/
X-PUBLISHED-TTL:P1D
BEGIN:VEVENT
UID:69eb2d1c428be
DTSTART:20260815T150000Z
SEQUENCE:0
TRANSP:OPAQUE
DTEND:20260815T150000Z
URL:https://www.altmuehl-jura.de/veranstaltungen/schuttplatzfest_der_ffw_en
 keri-655775/
LOCATION:Feuerwehrhaus Enkering - Kinding
SUMMARY:Schuttplatzfest der FFW Enkering
DTSTAMP:20260424T104308Z
END:VEVENT
END:VCALENDAR