BEGIN:VCALENDAR
VERSION:2.0
PRODID:https://www.altmuehl-jura.de/
X-PUBLISHED-TTL:P1D
BEGIN:VEVENT
UID:69e6be753e213
DTSTART:20260711T130000Z
SEQUENCE:0
TRANSP:OPAQUE
DTEND:20260711T190000Z
URL:https://www.altmuehl-jura.de/veranstaltungen/seelenklang_open_air-65661
 7-12579915/
LOCATION:Alcmona-Erlebnisdorf - Dietfurt
SUMMARY:Seelenklang Open Air
DTSTAMP:20260421T020157Z
END:VEVENT
END:VCALENDAR