BEGIN:VCALENDAR
VERSION:2.0
PRODID:https://www.altmuehl-jura.de/
X-PUBLISHED-TTL:P1D
BEGIN:VEVENT
UID:69e8b3f06e27d
DTSTART;VALUE=DATE:20261206
SEQUENCE:0
TRANSP:OPAQUE
DTEND;VALUE=DATE:20261206
URL:https://www.altmuehl-jura.de/veranstaltungen/seniorenweihnacht_in_kindi
 ng-649807/
LOCATION:DIE KRONE - Kinding
SUMMARY:Seniorenweihnacht in Kinding
X-MICROSOFT-CDO-ALLDAYEVENT:TRUE
DTSTAMP:20260422T134136Z
END:VEVENT
END:VCALENDAR