BEGIN:VCALENDAR
VERSION:2.0
PRODID:https://www.altmuehl-jura.de/
X-PUBLISHED-TTL:P1D
BEGIN:VEVENT
UID:69e822659d208
DTSTART;VALUE=DATE:20260718
SEQUENCE:0
TRANSP:OPAQUE
DTEND;VALUE=DATE:20260718
URL:https://www.altmuehl-jura.de/veranstaltungen/sommernachtsfest_des_bursc
 henv-649815/
LOCATION:- Veranstaltung ohne festen Ort - Kinding
SUMMARY:Sommernachtsfest des Burschenvereins
X-MICROSOFT-CDO-ALLDAYEVENT:TRUE
DTSTAMP:20260422T032037Z
END:VEVENT
END:VCALENDAR