BEGIN:VCALENDAR
VERSION:2.0
PRODID:https://www.altmuehl-jura.de/
X-PUBLISHED-TTL:P1D
BEGIN:VEVENT
UID:69e80137a463a
DTSTART:20260530T160000Z
SEQUENCE:0
TRANSP:OPAQUE
DTEND:20260530T160000Z
URL:https://www.altmuehl-jura.de/veranstaltungen/sommernachtsfest_isidor_he
 bers-668045-12594259/
LOCATION:Dorf-Halle Hebersdorf - Dietfurt a.d.Altmühl
SUMMARY:Sommernachtsfest Isidor Hebersdorf
DTSTAMP:20260422T005903Z
END:VEVENT
END:VCALENDAR