BEGIN:VCALENDAR
VERSION:2.0
PRODID:https://www.altmuehl-jura.de/
X-PUBLISHED-TTL:P1D
BEGIN:VEVENT
UID:69e672d6aa6da
DTSTART:20260614T160000Z
SEQUENCE:0
TRANSP:OPAQUE
DTEND:20260614T160000Z
URL:https://www.altmuehl-jura.de/veranstaltungen/sommerserenade_des_symphon
 isch-629735-12608155/
LOCATION:Hof des ehemaligen Amtsgerichts - Beilngries
SUMMARY:Sommerserenade des Symphonischen Blasorchesters Beilngries
DTSTAMP:20260420T203918Z
END:VEVENT
END:VCALENDAR