BEGIN:VCALENDAR
VERSION:2.0
PRODID:https://www.altmuehl-jura.de/
X-PUBLISHED-TTL:P1D
BEGIN:VEVENT
UID:69e814bd15501
DTSTART:20261108T080000Z
SEQUENCE:0
TRANSP:OPAQUE
DTEND:20261108T080000Z
URL:https://www.altmuehl-jura.de/veranstaltungen/sonntagsfruehstueck_zum_sp
 itzl-668231/
LOCATION:BAY.CHI – Café & mehr - Dietfurt
SUMMARY:Sonntagsfrühstück zum Spitzlmarkt
DTSTAMP:20260422T022221Z
END:VEVENT
END:VCALENDAR