BEGIN:VCALENDAR
VERSION:2.0
PRODID:https://www.altmuehl-jura.de/
X-PUBLISHED-TTL:P1D
BEGIN:VEVENT
UID:69e6c1f971b49
DTSTART:20260410T093000Z
SEQUENCE:0
TRANSP:OPAQUE
DTEND:20260410T114500Z
URL:https://www.altmuehl-jura.de/veranstaltungen/spargelwochen_im_hotel_dir
 sch-702757-12617777/
LOCATION:Hotel Dirsch Wellness und Spa Resort - Titting
SUMMARY:Spargelwochen im Hotel Dirsch
DTSTAMP:20260421T021657Z
END:VEVENT
BEGIN:VEVENT
UID:69e6c1f971b92
DTSTART:20260411T093000Z
SEQUENCE:0
TRANSP:OPAQUE
DTEND:20260411T114500Z
URL:https://www.altmuehl-jura.de/veranstaltungen/spargelwochen_im_hotel_dir
 sch-702757-12617777/
LOCATION:Hotel Dirsch Wellness und Spa Resort - Titting
SUMMARY:Spargelwochen im Hotel Dirsch
DTSTAMP:20260421T021657Z
END:VEVENT
BEGIN:VEVENT
UID:69e6c1f971b9c
DTSTART:20260412T093000Z
SEQUENCE:0
TRANSP:OPAQUE
DTEND:20260412T114500Z
URL:https://www.altmuehl-jura.de/veranstaltungen/spargelwochen_im_hotel_dir
 sch-702757-12617777/
LOCATION:Hotel Dirsch Wellness und Spa Resort - Titting
SUMMARY:Spargelwochen im Hotel Dirsch
DTSTAMP:20260421T021657Z
END:VEVENT
BEGIN:VEVENT
UID:69e6c1f971ba5
DTSTART:20260413T093000Z
SEQUENCE:0
TRANSP:OPAQUE
DTEND:20260413T114500Z
URL:https://www.altmuehl-jura.de/veranstaltungen/spargelwochen_im_hotel_dir
 sch-702757-12617777/
LOCATION:Hotel Dirsch Wellness und Spa Resort - Titting
SUMMARY:Spargelwochen im Hotel Dirsch
DTSTAMP:20260421T021657Z
END:VEVENT
BEGIN:VEVENT
UID:69e6c1f971bad
DTSTART:20260414T093000Z
SEQUENCE:0
TRANSP:OPAQUE
DTEND:20260414T114500Z
URL:https://www.altmuehl-jura.de/veranstaltungen/spargelwochen_im_hotel_dir
 sch-702757-12617777/
LOCATION:Hotel Dirsch Wellness und Spa Resort - Titting
SUMMARY:Spargelwochen im Hotel Dirsch
DTSTAMP:20260421T021657Z
END:VEVENT
BEGIN:VEVENT
UID:69e6c1f971bb5
DTSTART:20260415T093000Z
SEQUENCE:0
TRANSP:OPAQUE
DTEND:20260415T114500Z
URL:https://www.altmuehl-jura.de/veranstaltungen/spargelwochen_im_hotel_dir
 sch-702757-12617777/
LOCATION:Hotel Dirsch Wellness und Spa Resort - Titting
SUMMARY:Spargelwochen im Hotel Dirsch
DTSTAMP:20260421T021657Z
END:VEVENT
BEGIN:VEVENT
UID:69e6c1f971bbc
DTSTART:20260416T093000Z
SEQUENCE:0
TRANSP:OPAQUE
DTEND:20260416T114500Z
URL:https://www.altmuehl-jura.de/veranstaltungen/spargelwochen_im_hotel_dir
 sch-702757-12617777/
LOCATION:Hotel Dirsch Wellness und Spa Resort - Titting
SUMMARY:Spargelwochen im Hotel Dirsch
DTSTAMP:20260421T021657Z
END:VEVENT
BEGIN:VEVENT
UID:69e6c1f971bc7
DTSTART:20260417T093000Z
SEQUENCE:0
TRANSP:OPAQUE
DTEND:20260417T114500Z
URL:https://www.altmuehl-jura.de/veranstaltungen/spargelwochen_im_hotel_dir
 sch-702757-12617777/
LOCATION:Hotel Dirsch Wellness und Spa Resort - Titting
SUMMARY:Spargelwochen im Hotel Dirsch
DTSTAMP:20260421T021657Z
END:VEVENT
BEGIN:VEVENT
UID:69e6c1f971bd5
DTSTART:20260418T093000Z
SEQUENCE:0
TRANSP:OPAQUE
DTEND:20260418T114500Z
URL:https://www.altmuehl-jura.de/veranstaltungen/spargelwochen_im_hotel_dir
 sch-702757-12617777/
LOCATION:Hotel Dirsch Wellness und Spa Resort - Titting
SUMMARY:Spargelwochen im Hotel Dirsch
DTSTAMP:20260421T021657Z
END:VEVENT
BEGIN:VEVENT
UID:69e6c1f971be2
DTSTART:20260419T093000Z
SEQUENCE:0
TRANSP:OPAQUE
DTEND:20260419T114500Z
URL:https://www.altmuehl-jura.de/veranstaltungen/spargelwochen_im_hotel_dir
 sch-702757-12617777/
LOCATION:Hotel Dirsch Wellness und Spa Resort - Titting
SUMMARY:Spargelwochen im Hotel Dirsch
DTSTAMP:20260421T021657Z
END:VEVENT
BEGIN:VEVENT
UID:69e6c1f971bf0
DTSTART:20260420T093000Z
SEQUENCE:0
TRANSP:OPAQUE
DTEND:20260420T114500Z
URL:https://www.altmuehl-jura.de/veranstaltungen/spargelwochen_im_hotel_dir
 sch-702757-12617777/
LOCATION:Hotel Dirsch Wellness und Spa Resort - Titting
SUMMARY:Spargelwochen im Hotel Dirsch
DTSTAMP:20260421T021657Z
END:VEVENT
BEGIN:VEVENT
UID:69e6c1f971bf9
DTSTART:20260421T093000Z
SEQUENCE:0
TRANSP:OPAQUE
DTEND:20260421T114500Z
URL:https://www.altmuehl-jura.de/veranstaltungen/spargelwochen_im_hotel_dir
 sch-702757-12617777/
LOCATION:Hotel Dirsch Wellness und Spa Resort - Titting
SUMMARY:Spargelwochen im Hotel Dirsch
DTSTAMP:20260421T021657Z
END:VEVENT
BEGIN:VEVENT
UID:69e6c1f971c00
DTSTART:20260422T093000Z
SEQUENCE:0
TRANSP:OPAQUE
DTEND:20260422T114500Z
URL:https://www.altmuehl-jura.de/veranstaltungen/spargelwochen_im_hotel_dir
 sch-702757-12617777/
LOCATION:Hotel Dirsch Wellness und Spa Resort - Titting
SUMMARY:Spargelwochen im Hotel Dirsch
DTSTAMP:20260421T021657Z
END:VEVENT
BEGIN:VEVENT
UID:69e6c1f971c08
DTSTART:20260423T093000Z
SEQUENCE:0
TRANSP:OPAQUE
DTEND:20260423T114500Z
URL:https://www.altmuehl-jura.de/veranstaltungen/spargelwochen_im_hotel_dir
 sch-702757-12617777/
LOCATION:Hotel Dirsch Wellness und Spa Resort - Titting
SUMMARY:Spargelwochen im Hotel Dirsch
DTSTAMP:20260421T021657Z
END:VEVENT
BEGIN:VEVENT
UID:69e6c1f971c0f
DTSTART:20260424T093000Z
SEQUENCE:0
TRANSP:OPAQUE
DTEND:20260424T114500Z
URL:https://www.altmuehl-jura.de/veranstaltungen/spargelwochen_im_hotel_dir
 sch-702757-12617777/
LOCATION:Hotel Dirsch Wellness und Spa Resort - Titting
SUMMARY:Spargelwochen im Hotel Dirsch
DTSTAMP:20260421T021657Z
END:VEVENT
BEGIN:VEVENT
UID:69e6c1f971c17
DTSTART:20260425T093000Z
SEQUENCE:0
TRANSP:OPAQUE
DTEND:20260425T114500Z
URL:https://www.altmuehl-jura.de/veranstaltungen/spargelwochen_im_hotel_dir
 sch-702757-12617777/
LOCATION:Hotel Dirsch Wellness und Spa Resort - Titting
SUMMARY:Spargelwochen im Hotel Dirsch
DTSTAMP:20260421T021657Z
END:VEVENT
BEGIN:VEVENT
UID:69e6c1f971c21
DTSTART:20260426T093000Z
SEQUENCE:0
TRANSP:OPAQUE
DTEND:20260426T114500Z
URL:https://www.altmuehl-jura.de/veranstaltungen/spargelwochen_im_hotel_dir
 sch-702757-12617777/
LOCATION:Hotel Dirsch Wellness und Spa Resort - Titting
SUMMARY:Spargelwochen im Hotel Dirsch
DTSTAMP:20260421T021657Z
END:VEVENT
BEGIN:VEVENT
UID:69e6c1f971c2e
DTSTART:20260427T093000Z
SEQUENCE:0
TRANSP:OPAQUE
DTEND:20260427T114500Z
URL:https://www.altmuehl-jura.de/veranstaltungen/spargelwochen_im_hotel_dir
 sch-702757-12617777/
LOCATION:Hotel Dirsch Wellness und Spa Resort - Titting
SUMMARY:Spargelwochen im Hotel Dirsch
DTSTAMP:20260421T021657Z
END:VEVENT
BEGIN:VEVENT
UID:69e6c1f971c3b
DTSTART:20260428T093000Z
SEQUENCE:0
TRANSP:OPAQUE
DTEND:20260428T114500Z
URL:https://www.altmuehl-jura.de/veranstaltungen/spargelwochen_im_hotel_dir
 sch-702757-12617777/
LOCATION:Hotel Dirsch Wellness und Spa Resort - Titting
SUMMARY:Spargelwochen im Hotel Dirsch
DTSTAMP:20260421T021657Z
END:VEVENT
BEGIN:VEVENT
UID:69e6c1f971c49
DTSTART:20260429T093000Z
SEQUENCE:0
TRANSP:OPAQUE
DTEND:20260429T114500Z
URL:https://www.altmuehl-jura.de/veranstaltungen/spargelwochen_im_hotel_dir
 sch-702757-12617777/
LOCATION:Hotel Dirsch Wellness und Spa Resort - Titting
SUMMARY:Spargelwochen im Hotel Dirsch
DTSTAMP:20260421T021657Z
END:VEVENT
BEGIN:VEVENT
UID:69e6c1f971c57
DTSTART:20260430T093000Z
SEQUENCE:0
TRANSP:OPAQUE
DTEND:20260430T114500Z
URL:https://www.altmuehl-jura.de/veranstaltungen/spargelwochen_im_hotel_dir
 sch-702757-12617777/
LOCATION:Hotel Dirsch Wellness und Spa Resort - Titting
SUMMARY:Spargelwochen im Hotel Dirsch
DTSTAMP:20260421T021657Z
END:VEVENT
BEGIN:VEVENT
UID:69e6c1f971c5f
DTSTART:20260501T093000Z
SEQUENCE:0
TRANSP:OPAQUE
DTEND:20260501T114500Z
URL:https://www.altmuehl-jura.de/veranstaltungen/spargelwochen_im_hotel_dir
 sch-702757-12617777/
LOCATION:Hotel Dirsch Wellness und Spa Resort - Titting
SUMMARY:Spargelwochen im Hotel Dirsch
DTSTAMP:20260421T021657Z
END:VEVENT
BEGIN:VEVENT
UID:69e6c1f971c66
DTSTART:20260502T093000Z
SEQUENCE:0
TRANSP:OPAQUE
DTEND:20260502T114500Z
URL:https://www.altmuehl-jura.de/veranstaltungen/spargelwochen_im_hotel_dir
 sch-702757-12617777/
LOCATION:Hotel Dirsch Wellness und Spa Resort - Titting
SUMMARY:Spargelwochen im Hotel Dirsch
DTSTAMP:20260421T021657Z
END:VEVENT
BEGIN:VEVENT
UID:69e6c1f971c6e
DTSTART:20260503T093000Z
SEQUENCE:0
TRANSP:OPAQUE
DTEND:20260503T114500Z
URL:https://www.altmuehl-jura.de/veranstaltungen/spargelwochen_im_hotel_dir
 sch-702757-12617777/
LOCATION:Hotel Dirsch Wellness und Spa Resort - Titting
SUMMARY:Spargelwochen im Hotel Dirsch
DTSTAMP:20260421T021657Z
END:VEVENT
BEGIN:VEVENT
UID:69e6c1f971c75
DTSTART:20260504T093000Z
SEQUENCE:0
TRANSP:OPAQUE
DTEND:20260504T114500Z
URL:https://www.altmuehl-jura.de/veranstaltungen/spargelwochen_im_hotel_dir
 sch-702757-12617777/
LOCATION:Hotel Dirsch Wellness und Spa Resort - Titting
SUMMARY:Spargelwochen im Hotel Dirsch
DTSTAMP:20260421T021657Z
END:VEVENT
BEGIN:VEVENT
UID:69e6c1f971c7d
DTSTART:20260505T093000Z
SEQUENCE:0
TRANSP:OPAQUE
DTEND:20260505T114500Z
URL:https://www.altmuehl-jura.de/veranstaltungen/spargelwochen_im_hotel_dir
 sch-702757-12617777/
LOCATION:Hotel Dirsch Wellness und Spa Resort - Titting
SUMMARY:Spargelwochen im Hotel Dirsch
DTSTAMP:20260421T021657Z
END:VEVENT
BEGIN:VEVENT
UID:69e6c1f971c84
DTSTART:20260506T093000Z
SEQUENCE:0
TRANSP:OPAQUE
DTEND:20260506T114500Z
URL:https://www.altmuehl-jura.de/veranstaltungen/spargelwochen_im_hotel_dir
 sch-702757-12617777/
LOCATION:Hotel Dirsch Wellness und Spa Resort - Titting
SUMMARY:Spargelwochen im Hotel Dirsch
DTSTAMP:20260421T021657Z
END:VEVENT
BEGIN:VEVENT
UID:69e6c1f971c8c
DTSTART:20260507T093000Z
SEQUENCE:0
TRANSP:OPAQUE
DTEND:20260507T114500Z
URL:https://www.altmuehl-jura.de/veranstaltungen/spargelwochen_im_hotel_dir
 sch-702757-12617777/
LOCATION:Hotel Dirsch Wellness und Spa Resort - Titting
SUMMARY:Spargelwochen im Hotel Dirsch
DTSTAMP:20260421T021657Z
END:VEVENT
BEGIN:VEVENT
UID:69e6c1f971c93
DTSTART:20260508T093000Z
SEQUENCE:0
TRANSP:OPAQUE
DTEND:20260508T114500Z
URL:https://www.altmuehl-jura.de/veranstaltungen/spargelwochen_im_hotel_dir
 sch-702757-12617777/
LOCATION:Hotel Dirsch Wellness und Spa Resort - Titting
SUMMARY:Spargelwochen im Hotel Dirsch
DTSTAMP:20260421T021657Z
END:VEVENT
BEGIN:VEVENT
UID:69e6c1f971c9a
DTSTART:20260509T093000Z
SEQUENCE:0
TRANSP:OPAQUE
DTEND:20260509T114500Z
URL:https://www.altmuehl-jura.de/veranstaltungen/spargelwochen_im_hotel_dir
 sch-702757-12617777/
LOCATION:Hotel Dirsch Wellness und Spa Resort - Titting
SUMMARY:Spargelwochen im Hotel Dirsch
DTSTAMP:20260421T021657Z
END:VEVENT
BEGIN:VEVENT
UID:69e6c1f971ca2
DTSTART:20260510T093000Z
SEQUENCE:0
TRANSP:OPAQUE
DTEND:20260510T114500Z
URL:https://www.altmuehl-jura.de/veranstaltungen/spargelwochen_im_hotel_dir
 sch-702757-12617777/
LOCATION:Hotel Dirsch Wellness und Spa Resort - Titting
SUMMARY:Spargelwochen im Hotel Dirsch
DTSTAMP:20260421T021657Z
END:VEVENT
BEGIN:VEVENT
UID:69e6c1f971cbb
DTSTART:20260511T093000Z
SEQUENCE:0
TRANSP:OPAQUE
DTEND:20260511T114500Z
URL:https://www.altmuehl-jura.de/veranstaltungen/spargelwochen_im_hotel_dir
 sch-702757-12617777/
LOCATION:Hotel Dirsch Wellness und Spa Resort - Titting
SUMMARY:Spargelwochen im Hotel Dirsch
DTSTAMP:20260421T021657Z
END:VEVENT
BEGIN:VEVENT
UID:69e6c1f971cc2
DTSTART:20260512T093000Z
SEQUENCE:0
TRANSP:OPAQUE
DTEND:20260512T114500Z
URL:https://www.altmuehl-jura.de/veranstaltungen/spargelwochen_im_hotel_dir
 sch-702757-12617777/
LOCATION:Hotel Dirsch Wellness und Spa Resort - Titting
SUMMARY:Spargelwochen im Hotel Dirsch
DTSTAMP:20260421T021657Z
END:VEVENT
BEGIN:VEVENT
UID:69e6c1f971cca
DTSTART:20260513T093000Z
SEQUENCE:0
TRANSP:OPAQUE
DTEND:20260513T114500Z
URL:https://www.altmuehl-jura.de/veranstaltungen/spargelwochen_im_hotel_dir
 sch-702757-12617777/
LOCATION:Hotel Dirsch Wellness und Spa Resort - Titting
SUMMARY:Spargelwochen im Hotel Dirsch
DTSTAMP:20260421T021657Z
END:VEVENT
BEGIN:VEVENT
UID:69e6c1f971cd1
DTSTART:20260514T093000Z
SEQUENCE:0
TRANSP:OPAQUE
DTEND:20260514T114500Z
URL:https://www.altmuehl-jura.de/veranstaltungen/spargelwochen_im_hotel_dir
 sch-702757-12617777/
LOCATION:Hotel Dirsch Wellness und Spa Resort - Titting
SUMMARY:Spargelwochen im Hotel Dirsch
DTSTAMP:20260421T021657Z
END:VEVENT
BEGIN:VEVENT
UID:69e6c1f971cda
DTSTART:20260515T093000Z
SEQUENCE:0
TRANSP:OPAQUE
DTEND:20260515T114500Z
URL:https://www.altmuehl-jura.de/veranstaltungen/spargelwochen_im_hotel_dir
 sch-702757-12617777/
LOCATION:Hotel Dirsch Wellness und Spa Resort - Titting
SUMMARY:Spargelwochen im Hotel Dirsch
DTSTAMP:20260421T021657Z
END:VEVENT
BEGIN:VEVENT
UID:69e6c1f971ce1
DTSTART:20260516T093000Z
SEQUENCE:0
TRANSP:OPAQUE
DTEND:20260516T114500Z
URL:https://www.altmuehl-jura.de/veranstaltungen/spargelwochen_im_hotel_dir
 sch-702757-12617777/
LOCATION:Hotel Dirsch Wellness und Spa Resort - Titting
SUMMARY:Spargelwochen im Hotel Dirsch
DTSTAMP:20260421T021657Z
END:VEVENT
BEGIN:VEVENT
UID:69e6c1f971ce8
DTSTART:20260517T093000Z
SEQUENCE:0
TRANSP:OPAQUE
DTEND:20260517T114500Z
URL:https://www.altmuehl-jura.de/veranstaltungen/spargelwochen_im_hotel_dir
 sch-702757-12617777/
LOCATION:Hotel Dirsch Wellness und Spa Resort - Titting
SUMMARY:Spargelwochen im Hotel Dirsch
DTSTAMP:20260421T021657Z
END:VEVENT
BEGIN:VEVENT
UID:69e6c1f971cf0
DTSTART:20260518T093000Z
SEQUENCE:0
TRANSP:OPAQUE
DTEND:20260518T114500Z
URL:https://www.altmuehl-jura.de/veranstaltungen/spargelwochen_im_hotel_dir
 sch-702757-12617777/
LOCATION:Hotel Dirsch Wellness und Spa Resort - Titting
SUMMARY:Spargelwochen im Hotel Dirsch
DTSTAMP:20260421T021657Z
END:VEVENT
BEGIN:VEVENT
UID:69e6c1f971cf7
DTSTART:20260519T093000Z
SEQUENCE:0
TRANSP:OPAQUE
DTEND:20260519T114500Z
URL:https://www.altmuehl-jura.de/veranstaltungen/spargelwochen_im_hotel_dir
 sch-702757-12617777/
LOCATION:Hotel Dirsch Wellness und Spa Resort - Titting
SUMMARY:Spargelwochen im Hotel Dirsch
DTSTAMP:20260421T021657Z
END:VEVENT
BEGIN:VEVENT
UID:69e6c1f971cfe
DTSTART:20260520T093000Z
SEQUENCE:0
TRANSP:OPAQUE
DTEND:20260520T114500Z
URL:https://www.altmuehl-jura.de/veranstaltungen/spargelwochen_im_hotel_dir
 sch-702757-12617777/
LOCATION:Hotel Dirsch Wellness und Spa Resort - Titting
SUMMARY:Spargelwochen im Hotel Dirsch
DTSTAMP:20260421T021657Z
END:VEVENT
BEGIN:VEVENT
UID:69e6c1f971d05
DTSTART:20260521T093000Z
SEQUENCE:0
TRANSP:OPAQUE
DTEND:20260521T114500Z
URL:https://www.altmuehl-jura.de/veranstaltungen/spargelwochen_im_hotel_dir
 sch-702757-12617777/
LOCATION:Hotel Dirsch Wellness und Spa Resort - Titting
SUMMARY:Spargelwochen im Hotel Dirsch
DTSTAMP:20260421T021657Z
END:VEVENT
BEGIN:VEVENT
UID:69e6c1f971d0d
DTSTART:20260522T093000Z
SEQUENCE:0
TRANSP:OPAQUE
DTEND:20260522T114500Z
URL:https://www.altmuehl-jura.de/veranstaltungen/spargelwochen_im_hotel_dir
 sch-702757-12617777/
LOCATION:Hotel Dirsch Wellness und Spa Resort - Titting
SUMMARY:Spargelwochen im Hotel Dirsch
DTSTAMP:20260421T021657Z
END:VEVENT
BEGIN:VEVENT
UID:69e6c1f971d14
DTSTART:20260523T093000Z
SEQUENCE:0
TRANSP:OPAQUE
DTEND:20260523T114500Z
URL:https://www.altmuehl-jura.de/veranstaltungen/spargelwochen_im_hotel_dir
 sch-702757-12617777/
LOCATION:Hotel Dirsch Wellness und Spa Resort - Titting
SUMMARY:Spargelwochen im Hotel Dirsch
DTSTAMP:20260421T021657Z
END:VEVENT
BEGIN:VEVENT
UID:69e6c1f971d1c
DTSTART:20260524T093000Z
SEQUENCE:0
TRANSP:OPAQUE
DTEND:20260524T114500Z
URL:https://www.altmuehl-jura.de/veranstaltungen/spargelwochen_im_hotel_dir
 sch-702757-12617777/
LOCATION:Hotel Dirsch Wellness und Spa Resort - Titting
SUMMARY:Spargelwochen im Hotel Dirsch
DTSTAMP:20260421T021657Z
END:VEVENT
BEGIN:VEVENT
UID:69e6c1f971d23
DTSTART:20260525T093000Z
SEQUENCE:0
TRANSP:OPAQUE
DTEND:20260525T114500Z
URL:https://www.altmuehl-jura.de/veranstaltungen/spargelwochen_im_hotel_dir
 sch-702757-12617777/
LOCATION:Hotel Dirsch Wellness und Spa Resort - Titting
SUMMARY:Spargelwochen im Hotel Dirsch
DTSTAMP:20260421T021657Z
END:VEVENT
BEGIN:VEVENT
UID:69e6c1f971d2b
DTSTART:20260526T093000Z
SEQUENCE:0
TRANSP:OPAQUE
DTEND:20260526T114500Z
URL:https://www.altmuehl-jura.de/veranstaltungen/spargelwochen_im_hotel_dir
 sch-702757-12617777/
LOCATION:Hotel Dirsch Wellness und Spa Resort - Titting
SUMMARY:Spargelwochen im Hotel Dirsch
DTSTAMP:20260421T021657Z
END:VEVENT
BEGIN:VEVENT
UID:69e6c1f971d32
DTSTART:20260527T093000Z
SEQUENCE:0
TRANSP:OPAQUE
DTEND:20260527T114500Z
URL:https://www.altmuehl-jura.de/veranstaltungen/spargelwochen_im_hotel_dir
 sch-702757-12617777/
LOCATION:Hotel Dirsch Wellness und Spa Resort - Titting
SUMMARY:Spargelwochen im Hotel Dirsch
DTSTAMP:20260421T021657Z
END:VEVENT
BEGIN:VEVENT
UID:69e6c1f971d3a
DTSTART:20260528T093000Z
SEQUENCE:0
TRANSP:OPAQUE
DTEND:20260528T114500Z
URL:https://www.altmuehl-jura.de/veranstaltungen/spargelwochen_im_hotel_dir
 sch-702757-12617777/
LOCATION:Hotel Dirsch Wellness und Spa Resort - Titting
SUMMARY:Spargelwochen im Hotel Dirsch
DTSTAMP:20260421T021657Z
END:VEVENT
BEGIN:VEVENT
UID:69e6c1f971d41
DTSTART:20260529T093000Z
SEQUENCE:0
TRANSP:OPAQUE
DTEND:20260529T114500Z
URL:https://www.altmuehl-jura.de/veranstaltungen/spargelwochen_im_hotel_dir
 sch-702757-12617777/
LOCATION:Hotel Dirsch Wellness und Spa Resort - Titting
SUMMARY:Spargelwochen im Hotel Dirsch
DTSTAMP:20260421T021657Z
END:VEVENT
BEGIN:VEVENT
UID:69e6c1f971d48
DTSTART:20260530T093000Z
SEQUENCE:0
TRANSP:OPAQUE
DTEND:20260530T114500Z
URL:https://www.altmuehl-jura.de/veranstaltungen/spargelwochen_im_hotel_dir
 sch-702757-12617777/
LOCATION:Hotel Dirsch Wellness und Spa Resort - Titting
SUMMARY:Spargelwochen im Hotel Dirsch
DTSTAMP:20260421T021657Z
END:VEVENT
BEGIN:VEVENT
UID:69e6c1f971d50
DTSTART:20260531T093000Z
SEQUENCE:0
TRANSP:OPAQUE
DTEND:20260531T114500Z
URL:https://www.altmuehl-jura.de/veranstaltungen/spargelwochen_im_hotel_dir
 sch-702757-12617777/
LOCATION:Hotel Dirsch Wellness und Spa Resort - Titting
SUMMARY:Spargelwochen im Hotel Dirsch
DTSTAMP:20260421T021657Z
END:VEVENT
BEGIN:VEVENT
UID:69e6c1f971d57
DTSTART:20260601T093000Z
SEQUENCE:0
TRANSP:OPAQUE
DTEND:20260601T114500Z
URL:https://www.altmuehl-jura.de/veranstaltungen/spargelwochen_im_hotel_dir
 sch-702757-12617777/
LOCATION:Hotel Dirsch Wellness und Spa Resort - Titting
SUMMARY:Spargelwochen im Hotel Dirsch
DTSTAMP:20260421T021657Z
END:VEVENT
BEGIN:VEVENT
UID:69e6c1f971d5f
DTSTART:20260602T093000Z
SEQUENCE:0
TRANSP:OPAQUE
DTEND:20260602T114500Z
URL:https://www.altmuehl-jura.de/veranstaltungen/spargelwochen_im_hotel_dir
 sch-702757-12617777/
LOCATION:Hotel Dirsch Wellness und Spa Resort - Titting
SUMMARY:Spargelwochen im Hotel Dirsch
DTSTAMP:20260421T021657Z
END:VEVENT
BEGIN:VEVENT
UID:69e6c1f971d67
DTSTART:20260603T093000Z
SEQUENCE:0
TRANSP:OPAQUE
DTEND:20260603T114500Z
URL:https://www.altmuehl-jura.de/veranstaltungen/spargelwochen_im_hotel_dir
 sch-702757-12617777/
LOCATION:Hotel Dirsch Wellness und Spa Resort - Titting
SUMMARY:Spargelwochen im Hotel Dirsch
DTSTAMP:20260421T021657Z
END:VEVENT
BEGIN:VEVENT
UID:69e6c1f971d6e
DTSTART:20260604T093000Z
SEQUENCE:0
TRANSP:OPAQUE
DTEND:20260604T114500Z
URL:https://www.altmuehl-jura.de/veranstaltungen/spargelwochen_im_hotel_dir
 sch-702757-12617777/
LOCATION:Hotel Dirsch Wellness und Spa Resort - Titting
SUMMARY:Spargelwochen im Hotel Dirsch
DTSTAMP:20260421T021657Z
END:VEVENT
BEGIN:VEVENT
UID:69e6c1f971d75
DTSTART:20260605T093000Z
SEQUENCE:0
TRANSP:OPAQUE
DTEND:20260605T114500Z
URL:https://www.altmuehl-jura.de/veranstaltungen/spargelwochen_im_hotel_dir
 sch-702757-12617777/
LOCATION:Hotel Dirsch Wellness und Spa Resort - Titting
SUMMARY:Spargelwochen im Hotel Dirsch
DTSTAMP:20260421T021657Z
END:VEVENT
BEGIN:VEVENT
UID:69e6c1f971d7d
DTSTART:20260606T093000Z
SEQUENCE:0
TRANSP:OPAQUE
DTEND:20260606T114500Z
URL:https://www.altmuehl-jura.de/veranstaltungen/spargelwochen_im_hotel_dir
 sch-702757-12617777/
LOCATION:Hotel Dirsch Wellness und Spa Resort - Titting
SUMMARY:Spargelwochen im Hotel Dirsch
DTSTAMP:20260421T021657Z
END:VEVENT
BEGIN:VEVENT
UID:69e6c1f971d85
DTSTART:20260607T093000Z
SEQUENCE:0
TRANSP:OPAQUE
DTEND:20260607T114500Z
URL:https://www.altmuehl-jura.de/veranstaltungen/spargelwochen_im_hotel_dir
 sch-702757-12617777/
LOCATION:Hotel Dirsch Wellness und Spa Resort - Titting
SUMMARY:Spargelwochen im Hotel Dirsch
DTSTAMP:20260421T021657Z
END:VEVENT
BEGIN:VEVENT
UID:69e6c1f971d8d
DTSTART:20260608T093000Z
SEQUENCE:0
TRANSP:OPAQUE
DTEND:20260608T114500Z
URL:https://www.altmuehl-jura.de/veranstaltungen/spargelwochen_im_hotel_dir
 sch-702757-12617777/
LOCATION:Hotel Dirsch Wellness und Spa Resort - Titting
SUMMARY:Spargelwochen im Hotel Dirsch
DTSTAMP:20260421T021657Z
END:VEVENT
BEGIN:VEVENT
UID:69e6c1f971d94
DTSTART:20260609T093000Z
SEQUENCE:0
TRANSP:OPAQUE
DTEND:20260609T114500Z
URL:https://www.altmuehl-jura.de/veranstaltungen/spargelwochen_im_hotel_dir
 sch-702757-12617777/
LOCATION:Hotel Dirsch Wellness und Spa Resort - Titting
SUMMARY:Spargelwochen im Hotel Dirsch
DTSTAMP:20260421T021657Z
END:VEVENT
BEGIN:VEVENT
UID:69e6c1f971d9b
DTSTART:20260610T093000Z
SEQUENCE:0
TRANSP:OPAQUE
DTEND:20260610T114500Z
URL:https://www.altmuehl-jura.de/veranstaltungen/spargelwochen_im_hotel_dir
 sch-702757-12617777/
LOCATION:Hotel Dirsch Wellness und Spa Resort - Titting
SUMMARY:Spargelwochen im Hotel Dirsch
DTSTAMP:20260421T021657Z
END:VEVENT
BEGIN:VEVENT
UID:69e6c1f971da3
DTSTART:20260611T093000Z
SEQUENCE:0
TRANSP:OPAQUE
DTEND:20260611T114500Z
URL:https://www.altmuehl-jura.de/veranstaltungen/spargelwochen_im_hotel_dir
 sch-702757-12617777/
LOCATION:Hotel Dirsch Wellness und Spa Resort - Titting
SUMMARY:Spargelwochen im Hotel Dirsch
DTSTAMP:20260421T021657Z
END:VEVENT
BEGIN:VEVENT
UID:69e6c1f971daa
DTSTART:20260612T093000Z
SEQUENCE:0
TRANSP:OPAQUE
DTEND:20260612T114500Z
URL:https://www.altmuehl-jura.de/veranstaltungen/spargelwochen_im_hotel_dir
 sch-702757-12617777/
LOCATION:Hotel Dirsch Wellness und Spa Resort - Titting
SUMMARY:Spargelwochen im Hotel Dirsch
DTSTAMP:20260421T021657Z
END:VEVENT
BEGIN:VEVENT
UID:69e6c1f971db2
DTSTART:20260613T093000Z
SEQUENCE:0
TRANSP:OPAQUE
DTEND:20260613T114500Z
URL:https://www.altmuehl-jura.de/veranstaltungen/spargelwochen_im_hotel_dir
 sch-702757-12617777/
LOCATION:Hotel Dirsch Wellness und Spa Resort - Titting
SUMMARY:Spargelwochen im Hotel Dirsch
DTSTAMP:20260421T021657Z
END:VEVENT
END:VCALENDAR