BEGIN:VCALENDAR
VERSION:2.0
PRODID:https://www.altmuehl-jura.de/
X-PUBLISHED-TTL:P1D
BEGIN:VEVENT
UID:69eb9047b8b80
DTSTART:20260711T080000Z
SEQUENCE:0
TRANSP:OPAQUE
DTEND:20260711T110000Z
URL:https://www.altmuehl-jura.de/veranstaltungen/stadtfuehrung_anlaesslich_
 baro-809787-12683717/
LOCATION:- Veranstaltung ohne festen Ort - Berching
SUMMARY:Stadtführung anlässlich Barockfest Christoph Willibald Gluck
DTSTAMP:20260424T174615Z
END:VEVENT
END:VCALENDAR