BEGIN:VCALENDAR
VERSION:2.0
PRODID:https://www.altmuehl-jura.de/
X-PUBLISHED-TTL:P1D
BEGIN:VEVENT
UID:69e88c2abc702
DTSTART:20260613T150000Z
SEQUENCE:0
TRANSP:OPAQUE
DTEND:20260613T160000Z
URL:https://www.altmuehl-jura.de/veranstaltungen/stadtfuehrung_durch_das_hi
 stor-729501-12632065/
LOCATION:Kirchenvorplatz - Beilngries
SUMMARY:Stadtführung durch das historische Beilngries
DTSTAMP:20260422T105154Z
END:VEVENT
END:VCALENDAR