BEGIN:VCALENDAR
VERSION:2.0
PRODID:https://www.altmuehl-jura.de/
X-PUBLISHED-TTL:P1D
BEGIN:VEVENT
UID:69e548abda7f3
DTSTART:20260502T150000Z
SEQUENCE:0
TRANSP:OPAQUE
DTEND:20260502T160000Z
URL:https://www.altmuehl-jura.de/veranstaltungen/stadtfuehrung_durch_das_hi
 stor-729501/
LOCATION:Kirchenvorplatz - Beilngries
SUMMARY:Stadtführung durch das historische Beilngries
DTSTAMP:20260419T232707Z
END:VEVENT
END:VCALENDAR