BEGIN:VCALENDAR
VERSION:2.0
PRODID:https://www.altmuehl-jura.de/
X-PUBLISHED-TTL:P1D
BEGIN:VEVENT
UID:69e80138a4874
DTSTART:20260801T160000Z
SEQUENCE:0
TRANSP:OPAQUE
DTEND:20260801T200000Z
URL:https://www.altmuehl-jura.de/veranstaltungen/strassenfest_berchinger_al
 tsta-672745-12597985/
LOCATION:Soifererhaus - Berching
SUMMARY:Straßenfest Berchinger Altstadtfreunde
DTSTAMP:20260422T005904Z
END:VEVENT
END:VCALENDAR