BEGIN:VCALENDAR
VERSION:2.0
PRODID:https://www.altmuehl-jura.de/
X-PUBLISHED-TTL:P1D
BEGIN:VEVENT
UID:69ea5e03c1cf8
DTSTART:20260607T160000Z
SEQUENCE:0
TRANSP:OPAQUE
DTEND:20260607T190000Z
URL:https://www.altmuehl-jura.de/veranstaltungen/theaterauffuehrung_der_fid
 ele-808925-12683439/
LOCATION:Gemeinschaftshalle Röckenhofen - Greding
SUMMARY:Theateraufführung \"Der fidele Strohwitwer\"
DESCRIPTION:Ein Schwank in vier Akten von Centa Schneider
DTSTAMP:20260423T195931Z
END:VEVENT
END:VCALENDAR