BEGIN:VCALENDAR
VERSION:2.0
PRODID:https://www.altmuehl-jura.de/
X-PUBLISHED-TTL:P1D
BEGIN:VEVENT
UID:69e83806a2719
DTSTART:20260514T073000Z
SEQUENCE:0
TRANSP:OPAQUE
DTEND:20260514T073000Z
URL:https://www.altmuehl-jura.de/veranstaltungen/vatertag-fruehschoppen_kaf
 fee-699041/
LOCATION:Dorfhaus Rappersdorf - Berching
SUMMARY:Vatertag - Frühschoppen\, Kaffee und Kuchen im Dorfhaus Rappersdor
 f
DTSTAMP:20260422T045254Z
END:VEVENT
END:VCALENDAR