BEGIN:VCALENDAR
VERSION:2.0
PRODID:https://www.altmuehl-jura.de/
X-PUBLISHED-TTL:P1D
BEGIN:VEVENT
UID:69e822cc6e1db
DTSTART:20260521T070000Z
SEQUENCE:0
TRANSP:OPAQUE
DTEND:20260521T100000Z
URL:https://www.altmuehl-jura.de/veranstaltungen/vdk-sprechtage-689961
LOCATION:Stadt Greding - Greding
SUMMARY:VDK-Sprechtage
DTSTAMP:20260422T032220Z
END:VEVENT
END:VCALENDAR