BEGIN:VCALENDAR
VERSION:2.0
PRODID:https://www.altmuehl-jura.de/
X-PUBLISHED-TTL:P1D
BEGIN:VEVENT
UID:69ea6b389bfa5
DTSTART:20260503T103000Z
SEQUENCE:0
TRANSP:OPAQUE
DTEND:20260503T153000Z
URL:https://www.altmuehl-jura.de/veranstaltungen/verkaufsoffener_sonntag-ta
 nz_i-626073-12568583/
LOCATION:Hauptstraße - Beilngries
SUMMARY:Verkaufsoffener Sonntag - Tanz in den Mai
DTSTAMP:20260423T205552Z
END:VEVENT
END:VCALENDAR