BEGIN:VCALENDAR
VERSION:2.0
PRODID:https://www.altmuehl-jura.de/
X-PUBLISHED-TTL:P1D
BEGIN:VEVENT
UID:69e85bd828bd9
DTSTART:20260719T103000Z
SEQUENCE:0
TRANSP:OPAQUE
DTEND:20260719T153000Z
URL:https://www.altmuehl-jura.de/veranstaltungen/verkaufsoffener_sonntag_zu
 m_al-626105/
LOCATION:Hauptstraße - Beilngries
SUMMARY:Verkaufsoffener Sonntag zum Altstadtfest
DTSTAMP:20260422T072544Z
END:VEVENT
END:VCALENDAR