BEGIN:VCALENDAR
VERSION:2.0
PRODID:https://www.altmuehl-jura.de/
X-PUBLISHED-TTL:P1D
BEGIN:VEVENT
UID:69e8711e7da37
DTSTART:20261011T103000Z
SEQUENCE:0
TRANSP:OPAQUE
DTEND:20261011T153000Z
URL:https://www.altmuehl-jura.de/veranstaltungen/verkaufsoffener_sonntag_zu
 m_zw-626125-12568667/
LOCATION:Hauptstraße - Beilngries
SUMMARY:Verkaufsoffener Sonntag zum Zwiebelmarkt
DTSTAMP:20260422T085630Z
END:VEVENT
END:VCALENDAR