BEGIN:VCALENDAR
VERSION:2.0
PRODID:https://www.altmuehl-jura.de/
X-PUBLISHED-TTL:P1D
BEGIN:VEVENT
UID:69e8c2a79d004
DTSTART:20270105T180000Z
SEQUENCE:0
TRANSP:OPAQUE
DTEND:20270105T180000Z
URL:https://www.altmuehl-jura.de/veranstaltungen/versteigerung_von_uns_fuer
 _kin-741775/
LOCATION:Landgasthof \"Zum Wolfsberg\" - Dietfurt
SUMMARY:Versteigerung Von Uns für Kinder - Dietfurt e.V
DTSTAMP:20260422T144423Z
END:VEVENT
END:VCALENDAR