BEGIN:VCALENDAR
VERSION:2.0
PRODID:https://www.altmuehl-jura.de/
X-PUBLISHED-TTL:P1D
BEGIN:VEVENT
UID:69e88d22a5ba1
DTSTART:20260614T120000Z
SEQUENCE:0
TRANSP:OPAQUE
DTEND:20260614T140000Z
URL:https://www.altmuehl-jura.de/veranstaltungen/wanderung_zu_den_gruenen_o
 asen-691243-12640817/
LOCATION:- Veranstaltung ohne festen Ort - Beilngries
SUMMARY:Wanderung zu den grünen Oasen
DESCRIPTION:Sulzpark\, Main-Donau Kanal und Sinterterrassen
DTSTAMP:20260422T105602Z
END:VEVENT
END:VCALENDAR