BEGIN:VCALENDAR
VERSION:2.0
PRODID:https://www.altmuehl-jura.de/
X-PUBLISHED-TTL:P1D
BEGIN:VEVENT
UID:69e7e9101ae18
DTSTART:20260926T173000Z
SEQUENCE:0
TRANSP:OPAQUE
DTEND:20260926T173000Z
URL:https://www.altmuehl-jura.de/veranstaltungen/weinfest_der_djk_kaldorf-p
 eter-704821/
LOCATION:Dorfgemeinschaftshaus Kaldorf - Titting
SUMMARY:Weinfest der DJK Kaldorf-Petersbuch
DTSTAMP:20260421T231600Z
END:VEVENT
END:VCALENDAR