BEGIN:VCALENDAR
VERSION:2.0
PRODID:https://www.altmuehl-jura.de/
X-PUBLISHED-TTL:P1D
BEGIN:VEVENT
UID:69e7f0cd0b6c3
DTSTART:20261024T173000Z
SEQUENCE:0
TRANSP:OPAQUE
DTEND:20261024T173000Z
URL:https://www.altmuehl-jura.de/veranstaltungen/weinfest_der_sg_altdorf_an
 laut-703573/
LOCATION:Gasthaus Schneider - Titting
SUMMARY:Weinfest der SG Altdorf Anlautertal
DTSTAMP:20260421T234901Z
END:VEVENT
END:VCALENDAR