BEGIN:VCALENDAR
VERSION:2.0
PRODID:https://www.altmuehl-jura.de/
X-PUBLISHED-TTL:P1D
BEGIN:VEVENT
UID:69e68060cf07c
DTSTART:20261122T100000Z
SEQUENCE:0
TRANSP:OPAQUE
DTEND:20261122T123000Z
URL:https://www.altmuehl-jura.de/veranstaltungen/winterbrunch_im_hotel_dirs
 ch-702769-12617791/
LOCATION:Hotel Dirsch Wellness und Spa Resort - Titting
SUMMARY:Winterbrunch im Hotel Dirsch
DTSTAMP:20260420T213704Z
END:VEVENT
END:VCALENDAR