BEGIN:VCALENDAR
VERSION:2.0
PRODID:https://www.altmuehl-jura.de/
X-PUBLISHED-TTL:P1D
BEGIN:VEVENT
UID:69eca20d939a0
DTSTART:20260605T080000Z
SEQUENCE:0
TRANSP:OPAQUE
DTEND:20260605T120000Z
URL:https://www.altmuehl-jura.de/veranstaltungen/wochenmarkt_in_titting-481
 329-12625959/
LOCATION:Marktplatz - Titting
SUMMARY:Wochenmarkt in Titting
DTSTAMP:20260425T131421Z
END:VEVENT
END:VCALENDAR