BEGIN:VCALENDAR
VERSION:2.0
PRODID:https://www.altmuehl-jura.de/
X-PUBLISHED-TTL:P1D
BEGIN:VEVENT
UID:69eaceed12360
DTSTART:20260424T080000Z
SEQUENCE:0
TRANSP:OPAQUE
DTEND:20260424T120000Z
URL:https://www.altmuehl-jura.de/veranstaltungen/wochenmarkt_in_titting-481
 329/
LOCATION:Marktplatz - Titting
SUMMARY:Wochenmarkt in Titting
DTSTAMP:20260424T040117Z
END:VEVENT
END:VCALENDAR