BEGIN:VCALENDAR
VERSION:2.0
PRODID:https://www.altmuehl-jura.de/
X-PUBLISHED-TTL:P1D
BEGIN:VEVENT
UID:69e8a4045838c
DTSTART:20261017T070000Z
SEQUENCE:0
TRANSP:OPAQUE
DTEND:20261017T140000Z
URL:https://www.altmuehl-jura.de/veranstaltungen/workshop_holzbackofen_pizz
 aofe-731651-12632585/
LOCATION:Holz-Feuer-Welt - Berching
SUMMARY:Workshop: Holzbackofen/ Pizzaofen selber bauen
DTSTAMP:20260422T123340Z
END:VEVENT
END:VCALENDAR